BEGIN:VCALENDAR
VERSION:2.0
PRODID:-//ChamberMaster//Event Calendar 2.0//EN
METHOD:PUBLISH
X-PUBLISHED-TTL:P3D
REFRESH-INTERVAL:P3D
CALSCALE:GREGORIAN
BEGIN:VEVENT
DTSTART:20210925T170000Z
DTEND:20210925T170000Z
X-MICROSOFT-CDO-ALLDAYEVENT:FALSE
SUMMARY:Little Kids\, Big World: It's Harvest Season!
DESCRIPTION:Toddlers and preschoolers are invited to this free interactive learning series where they will learn about different crops harvested in North Dakota and the many uses of the products our farmers grow. These interactive 30-minute programs introduce children to North Dakota's fascinating history. All children must be accompanied by a parent or guardian and are asked to meet at the east entrance information desk.
X-ALT-DESC;FMTTYPE=text/html:Toddlers and preschoolers are invited to this free interactive learning series where they will learn about different crops harvested in North Dakota and the many uses of the products our farmers grow. These interactive 30-minute programs introduce children to North Dakota&rsquo\;s fascinating history. All children must be accompanied by a parent or guardian and are asked to meet at the east entrance information desk.
LOCATION:North Dakota Heritage Center & State Museum\, 612 E Boulevard Ave\, Bismarck\, ND 58505
UID:e.1803.5242
SEQUENCE:3
DTSTAMP:20260421T144325Z
URL:https://business.bismarckmandan.com/events/details/little-kids-big-world-it-s-harvest-season-09-25-2021-5242
END:VEVENT

END:VCALENDAR
