BEGIN:VCALENDAR
VERSION:2.0
PRODID:-//ChamberMaster//Event Calendar 2.0//EN
METHOD:PUBLISH
X-PUBLISHED-TTL:P3D
REFRESH-INTERVAL:P3D
CALSCALE:GREGORIAN
BEGIN:VEVENT
DTSTART:20230527T150000Z
DTEND:20230527T163000Z
X-MICROSOFT-CDO-ALLDAYEVENT:FALSE
SUMMARY:LITTLE KIDS\, BIG WORLD: NATURE STORIES
DESCRIPTION:Toddlers and preschoolers are invited to this free interactive learning series where they will see a new exhibit all about the stories in nature then hear a story about animals. These interactive 30-minute programs introduce children to North Dakota's fascinating history. All children must be accompanied by a parent or guardian and are asked to meet at the east entrance information desk. "Little Kids\, Big World" classes\, led by educator Sarah Fox\, are offered in a large public space with social distancing considerations. Each child is provided with their own supplies.
X-ALT-DESC;FMTTYPE=text/html:Toddlers and preschoolers are invited to this free interactive learning series where they will see a new exhibit all about the stories in nature then hear a story about animals. These interactive 30-minute programs introduce children to North Dakota&rsquo\;s fascinating history. All children must be accompanied by a parent or guardian and are asked to meet at the east entrance information desk. &quot\;Little Kids\, Big World&quot\; classes\, led by educator Sarah Fox\, are offered in a large public space with social distancing considerations. Each child is provided with their own supplies.
LOCATION:North Dakota Heritage Center & State Museum 612 East Boulevard Avenue Bismarck ND 58505
UID:e.1803.5819
SEQUENCE:3
DTSTAMP:20260425T112732Z
URL:https://business.bismarckmandan.com/events/details/little-kids-big-world-nature-stories-5819
END:VEVENT

END:VCALENDAR
