BEGIN:VCALENDAR
VERSION:2.0
PRODID:-//ChamberMaster//Event Calendar 2.0//EN
METHOD:PUBLISH
X-PUBLISHED-TTL:P3D
REFRESH-INTERVAL:P3D
CALSCALE:GREGORIAN
BEGIN:VEVENT
DTSTART:20210515T200000Z
DTEND:20210515T203000Z
X-MICROSOFT-CDO-ALLDAYEVENT:FALSE
SUMMARY:Little Kids\, Big World: Ready\, Set\, Liftoff!
DESCRIPTION:Toddlers and preschoolers are invited to this free interactive learning series where they will look at the spacesuit in our museum and make a rocket. Toddlers and preschoolers are invited to this free interactive learning series where they will create their own parachute and watch it drop. These interactive 30-minute programs introduce children to North Dakota's fascinating history. All children must be accompanied by a parent or guardian. Children and their parents or guardians are asked to meet at the east entrance information desk.
X-ALT-DESC;FMTTYPE=text/html:Toddlers and preschoolers are invited to this free interactive learning series where they will look at the spacesuit in our museum and make a rocket. Toddlers and preschoolers are invited to this free interactive learning series where they will create their own parachute and watch it drop. These interactive 30-minute programs introduce children to North Dakota&rsquo\;s fascinating history. All children must be accompanied by a parent or guardian. Children and their parents or guardians are asked to meet at the east entrance information desk.
LOCATION:North Dakota Heritage Center & State Museum\, 612 E Boulevard Ave\, Bismarck\, ND 58505
UID:e.1803.5130
SEQUENCE:3
DTSTAMP:20260421T114005Z
URL:https://business.bismarckmandan.com/events/details/little-kids-big-world-ready-set-liftoff-05-15-2021-5130
END:VEVENT

END:VCALENDAR
