BEGIN:VCALENDAR
VERSION:2.0
PRODID:-//ChamberMaster//Event Calendar 2.0//EN
METHOD:PUBLISH
X-PUBLISHED-TTL:P3D
REFRESH-INTERVAL:P3D
CALSCALE:GREGORIAN
BEGIN:VEVENT
DTSTART:20210530T170000Z
DTEND:20210530T173000Z
X-MICROSOFT-CDO-ALLDAYEVENT:FALSE
SUMMARY:Little Kids\, Big World: USS North Dakota
DESCRIPTION:Toddlers and preschoolers are invited to this free interactive learning series where they will look at artifacts from the ship named USS North Dakota\, which was first launched in 1908. Then they will make a boat and discover what it takes to keep it afloat. These interactive 30-minute programs introduce children to North Dakota's fascinating history. All children must be accompanied by a parent or guardian. Children and their parents or guardians are asked to meet at the east entrance information desk. "Little Kids\, Big World" is led by Sarah Fox\, who has teaching endorsements in STEM 1-8\, middle school 5-8\, and kindergarten\, and has taught for more than 10 years.
X-ALT-DESC;FMTTYPE=text/html:Toddlers and preschoolers are invited to this free interactive learning series where they will look at artifacts from the ship named USS North Dakota\, which was first launched in 1908. Then they will make a boat and discover what it takes to keep it afloat. These interactive 30-minute programs introduce children to North Dakota&rsquo\;s fascinating history. All children must be accompanied by a parent or guardian. Children and their parents or guardians are asked to meet at the east entrance information desk. &quot\;Little Kids\, Big World&quot\; is led by Sarah Fox\, who has teaching endorsements in STEM 1-8\, middle school 5-8\, and kindergarten\, and has taught for more than 10 years.
LOCATION:North Dakota Heritage Center & State Museum\, 612 E Boulevard Ave\, Bismarck\, ND 58505
UID:e.1803.5134
SEQUENCE:3
DTSTAMP:20260421T113941Z
URL:https://business.bismarckmandan.com/events/details/little-kids-big-world-uss-north-dakota-05-23-2021-5134
END:VEVENT

END:VCALENDAR
