BEGIN:VCALENDAR
VERSION:2.0
PRODID:-//ChamberMaster//Event Calendar 2.0//EN
METHOD:PUBLISH
X-PUBLISHED-TTL:P3D
REFRESH-INTERVAL:P3D
CALSCALE:GREGORIAN
BEGIN:VEVENT
DTSTART:20230513T150000Z
DTEND:20230513T153000Z
X-MICROSOFT-CDO-ALLDAYEVENT:FALSE
SUMMARY:LITTLE KIDS\, BIG WORLD: WE LOVE MOTHERS
DESCRIPTION:Toddlers and preschoolers are invited to this free interactive learning series where they will read a story and make a gift for the moms in their lives. These interactive 30-minute programs introduce children to North Dakota's fascinating history. All children must be accompanied by a parent or guardian and are asked to meet at the east entrance information desk. "Little Kids\, Big World" classes\, led by educator Sarah Fox\, are offered in a large public space with social distancing considerations. Each child is provided with their own supplies.
X-ALT-DESC;FMTTYPE=text/html:Toddlers and preschoolers are invited to this free interactive learning series where they will read a story and make a gift for the moms in their lives. These interactive 30-minute programs introduce children to North Dakota&rsquo\;s fascinating history. All children must be accompanied by a parent or guardian and are asked to meet at the east entrance information desk. &quot\;Little Kids\, Big World&quot\; classes\, led by educator Sarah Fox\, are offered in a large public space with social distancing considerations. Each child is provided with their own supplies.
LOCATION:North Dakota Heritage Center & State Museum 612 East Boulevard Avenue Bismarck ND 58505
UID:e.1803.5814
SEQUENCE:3
DTSTAMP:20260425T112600Z
URL:https://business.bismarckmandan.com/events/details/little-kids-big-world-we-love-mothers-5814
END:VEVENT

END:VCALENDAR
