BEGIN:VCALENDAR
VERSION:2.0
PRODID:-//ChamberMaster//Event Calendar 2.0//EN
METHOD:PUBLISH
X-PUBLISHED-TTL:P3D
REFRESH-INTERVAL:P3D
CALSCALE:GREGORIAN
BEGIN:VEVENT
DTSTART:20210930T213000Z
DTEND:20210930T233000Z
X-MICROSOFT-CDO-ALLDAYEVENT:FALSE
SUMMARY:Membership Mixer: Century 21 Morrison Realty
DESCRIPTION:Mark your calendar for the September Membership Mixer hosted by Century 21 Morrison Realty!\n\n \n\nOn Thursday\, September 30th from 4:30pm to 6:30pm\, Century 21 Morrison Realty will be hosting the September Membership Mixer at their location at 1142 W Turnpike Ave in Bismarck. \n\n\n\nJoin this fellow Chamber EDC member for some business after hours\, while we enjoy catering by Lady J's along with refreshments. This fun event will also be giving away a wide variety of door prizes to attendees in the form of gift baskets!\n\n \n\nMixers are FREE for Chamber EDC members to attend. RSVPs are appreciated and can be made above or by contacting Josie Smyle\, at the Chamber EDC office 701-223-5660.
X-ALT-DESC;FMTTYPE=text/html:<span style="font-size:16px\;">Mark your calendar for the September Membership Mixer hosted by Century 21 Morrison Realty!<br />\n&nbsp\;<br />\nOn <strong>Thursday\, September 30th&nbsp\;</strong>from <strong>4:30pm to 6:30pm</strong>\, Century 21 Morrison Realty will be hosting the September Membership Mixer at their location at <strong>1142 W Turnpike Ave in Bismarck</strong>.&nbsp\;<br />\n<br />\nJoin this fellow Chamber EDC member for some business after hours\, while we enjoy catering by Lady J&#39\;s along with refreshments. This fun event will also be giving away a wide variety of door prizes to attendees in the form of gift baskets!<br />\n&nbsp\;<br />\nMixers are FREE for Chamber EDC members to attend. RSVPs are appreciated and can be made above&nbsp\;or by contacting <strong><a href="mailto:jsmyle@bmcedc.com" style="color:blue\;">Josie Smyle</a></strong>\, at the Chamber EDC office <strong>701-223-5660.</strong></span>
LOCATION:Century 21 Morrison Realty 1142 W Turnpike Ave\, Bismarck
UID:e.1803.5183
SEQUENCE:3
DTSTAMP:20260421T161848Z
URL:https://business.bismarckmandan.com/events/details/membership-mixer-century-21-morrison-realty-5183
END:VEVENT

END:VCALENDAR
