BEGIN:VCALENDAR
VERSION:2.0
PRODID:-//ChamberMaster//Event Calendar 2.0//EN
METHOD:PUBLISH
X-PUBLISHED-TTL:P3D
REFRESH-INTERVAL:P3D
CALSCALE:GREGORIAN
BEGIN:VEVENT
DTSTART:20230511T213000Z
DTEND:20230511T233000Z
X-MICROSOFT-CDO-ALLDAYEVENT:FALSE
SUMMARY:Membership Mixer: Dakota Media Access
DESCRIPTION:Join Dakota Media Access for the May Membership Mixer\, on Thursday\, May 11th from 4:30pm to 6:30pm at 1101 E Front Ave in Bismarck.\n\n\n\nCome enjoy live music on Dakota Media Access's beautiful patio\, great appetizers & refreshments\, and mingle with members! (Patio weather permitting) \n\n\n\nMixers are FREE for Chamber EDC members to attend. No RSVPs are necessary!
X-ALT-DESC;FMTTYPE=text/html:<br />\n<span style="font-size: 16px\;">Join </span><strong style="font-size: 16px\;">Dakota Media Access</strong><span style="font-size: 16px\;"> for the May Membership Mixer\, on </span><strong style="font-size: 16px\;">Thursday\, May 11th from 4:30pm to 6:30pm</strong><span style="font-size: 16px\;"> at 1101 E Front Ave in Bismarck.</span><br />\n<br />\n<span style="font-size: 16px\;">Come enjoy live music on Dakota Media Access&#39\;s&nbsp\;beautiful patio\, great appetizers &amp\; refreshments\, and mingle with members! <span style="font-size:12px\;"><em>(Patio&nbsp\;weather permitting)&nbsp\;</em></span></span><br />\n<br />\n<span style="font-size: 16px\;">Mixers are FREE for Chamber EDC members to attend. No RSVPs are necessary!&nbsp\;</span>
LOCATION:Dakota Media Access 1101 E Front Ave\, Bismarck\, ND
UID:e.1803.5788
SEQUENCE:3
DTSTAMP:20260425T112007Z
URL:https://business.bismarckmandan.com/events/details/membership-mixer-dakota-media-access-5788
END:VEVENT

END:VCALENDAR
