BEGIN:VCALENDAR
VERSION:2.0
PRODID:-//ChamberMaster//Event Calendar 2.0//EN
METHOD:PUBLISH
X-PUBLISHED-TTL:P3D
REFRESH-INTERVAL:P3D
CALSCALE:GREGORIAN
BEGIN:VEVENT
DTSTART:20241010T213000Z
DTEND:20241010T233000Z
X-MICROSOFT-CDO-ALLDAYEVENT:FALSE
SUMMARY:Membership Mixer: Executive Air Taxi Corp. 2024
DESCRIPTION:Join Executive Air Taxi for the October Membership Mixer\, on Thursday\, October 10th from 4:30pm to 6:30pm at 2301 University Drive\, Building 48 in Bismarck!\n\n\n\nCome to enjoy some business after hours\, along with great appetizers and refreshments! \n\n\n\nMixers are FREE for Chamber EDC members to attend. No RSVPs are necessary!
X-ALT-DESC;FMTTYPE=text/html:<span style="font-size:16px\;"><span style="font-family:arial\;">Join Executive Air Taxi&nbsp\;</span></span><span style="font-size:16px\;"><span style="font-family:arial\;">for the October Membership Mixer\, on <strong>Thursday\, October 10th from 4:30pm to 6:30pm&nbsp\;</strong>at <b>2301 University Drive\, Building 48&nbsp\;</b>in Bismarck!</span></span><br />\n<br />\n<span style="font-size:16px\;"><span style="font-family:arial\;">Come to enjoy some business after hours\, along with great appetizers and refreshments!&nbsp\;<br />\n<br />\nMixers are FREE for Chamber EDC members to attend. No RSVPs are necessary!</span></span>
LOCATION:Executive Air Taxi Corp. 2301 University Dr\, Building 48\, Bismarck
UID:e.1803.6100
SEQUENCE:3
DTSTAMP:20260420T021648Z
URL:https://business.bismarckmandan.com/events/details/membership-mixer-executive-air-taxi-corp-2024-6100
END:VEVENT

END:VCALENDAR
