BEGIN:VCALENDAR
VERSION:2.0
PRODID:-//ChamberMaster//Event Calendar 2.0//EN
METHOD:PUBLISH
X-PUBLISHED-TTL:P3D
REFRESH-INTERVAL:P3D
CALSCALE:GREGORIAN
BEGIN:VEVENT
DTSTART:20240515T213000Z
DTEND:20240515T233000Z
X-MICROSOFT-CDO-ALLDAYEVENT:FALSE
SUMMARY:Membership Mixer: McQuade Distributing 2024
DESCRIPTION:Join McQuade Distributing for the May Membership Mixer on Wednesday\, May 15th at 1150 Industrial Drive in Bismarck. Yes\, Wednesday\, not Thursday! \n\n\n\nEnjoy some business after hours\, along with great appetizers and refreshments! \n\n\n\nMixers are FREE for Chamber EDC members to attend. No RSVPs are necessary!
X-ALT-DESC;FMTTYPE=text/html:<span style="font-size:16px\;"><span style="font-family:arial\;">Join McQuade Distributing for the May Membership Mixer on <strong>Wednesday\, May 15th at 1150 Industrial Drive</strong> in Bismarck. Yes\, Wednesday\, not Thursday!&nbsp\;</span></span><br />\n<br />\n<span style="font-family: arial\; font-size: 16px\;">Enjoy some business after hours\, along with great appetizers and refreshments!&nbsp\;</span><br style="font-family: arial\; font-size: 16px\;" />\n<br style="font-family: arial\; font-size: 16px\;" />\n<span style="font-family: arial\; font-size: 16px\;">Mixers are FREE for Chamber EDC members to attend. No RSVPs are necessary!</span>
LOCATION:McQuade Distributing Co 1150 Industrial Drive
UID:e.1803.6092
SEQUENCE:3
DTSTAMP:20260421T125952Z
URL:https://business.bismarckmandan.com/events/details/membership-mixer-mcquade-distributing-2024-6092
END:VEVENT

END:VCALENDAR
