BEGIN:VCALENDAR
VERSION:2.0
PRODID:-//ChamberMaster//Event Calendar 2.0//EN
METHOD:PUBLISH
X-PUBLISHED-TTL:P3D
REFRESH-INTERVAL:P3D
CALSCALE:GREGORIAN
BEGIN:VEVENT
DTSTART:20210819T213000Z
DTEND:20210819T233000Z
X-MICROSOFT-CDO-ALLDAYEVENT:FALSE
SUMMARY:Membership Mixer: University of Mary
DESCRIPTION:Save the date for the August Membership Mixer hosted by University of Mary!\n\n\n\nOn Thursday\, August 19th from 4:30pm to 6:30pm\, University of Mary will host the August Membership Mixer at the Gary Tharaldson School of Business on the University of Mary campus. \n\n\n\nCome join this fellow Chamber EDC member while we enjoy catering by University of Mary Dining Services along with a limited time only open bar! This event is a great way to get out and about for some fun networking and the chance to win some great prizes such as the following: University of Mary Merch\, Sporting Package\, & 1-4 hour workforce development training for up to 20 employees!\n\n\n\nMixers are FREE for Chamber EDC members to attend. RSVPs are appreciated and can be made above or by contacting Josie Smyle\, at the Chamber EDC office 701-223-5660
X-ALT-DESC;FMTTYPE=text/html:<span style="font-size:16px\;"><span style="font-family: Oxygen\, sans-serif\;">Save the date for the August Membership Mixer hosted by University of Mary!<br />\n<br />\nOn&nbsp\;</span><span style="box-sizing: content-box\; font-weight: bolder\; inset: auto\; clear: none\; content: normal\; direction: inherit\; empty-cells: show\; font-variant-numeric: inherit\; font-variant-east-asian: inherit\; font-stretch: inherit\; font-family: Oxygen\, sans-serif\; line-height: inherit\; margin: 0px\; max-height: none\; max-width: none\; min-height: initial\; min-width: initial\; opacity: 1\; outline-offset: 0px\; overflow: visible\; padding: 0px\; position: static\; resize: none\; table-layout: auto\; text-overflow: clip\; vertical-align: baseline\; visibility: inherit\; word-break: inherit\; overflow-wrap: inherit\; z-index: auto\; background-image: none\; background-position: initial\; background-size: initial\; background-repeat: initial\; background-attachment: initial\; background-origin: initial\; background-clip: initial\; border-width: initial\; border-style: none\; border-color: initial\; border-collapse: separate\; border-image: none 100% 1 0 / 1 / 0 stretch\; border-radius: 0px\; height: auto\; width: auto\; box-shadow: none\;">Thursday\, August 19<sup style="box-sizing: content-box\; line-height: normal\; position: static\; inset: auto\; clear: none\; color: inherit\; content: normal\; direction: inherit\; display: inline\; empty-cells: show\; float: none\; font-style: inherit\; font-variant: inherit\; font-weight: inherit\; font-stretch: inherit\; font-family: inherit\; letter-spacing: inherit\; margin: 0px\; max-height: none\; max-width: none\; min-height: initial\; min-width: initial\; opacity: 1\; outline-offset: 0px\; overflow: visible\; padding: 0px\; resize: none\; table-layout: auto\; text-align: inherit\; text-indent: inherit\; text-overflow: clip\; text-transform: inherit\; visibility: inherit\; white-space: inherit\; word-break: inherit\; word-spacing: inherit\; overflow-wrap: inherit\; z-index: auto\; background: none\; border-width: initial\; border-style: none\; border-color: initial\; border-collapse: separate\; border-image: none 100% 1 0 / 1 / 0 stretch\; border-radius: 0px\; height: auto\; width: auto\; box-shadow: none\;">th</sup>&nbsp\;</span><span style="font-family: Oxygen\, sans-serif\;">from&nbsp\;</span><span style="box-sizing: content-box\; font-weight: bolder\; inset: auto\; clear: none\; content: normal\; direction: inherit\; empty-cells: show\; font-variant-numeric: inherit\; font-variant-east-asian: inherit\; font-stretch: inherit\; font-family: Oxygen\, sans-serif\; line-height: inherit\; margin: 0px\; max-height: none\; max-width: none\; min-height: initial\; min-width: initial\; opacity: 1\; outline-offset: 0px\; overflow: visible\; padding: 0px\; position: static\; resize: none\; table-layout: auto\; text-overflow: clip\; vertical-align: baseline\; visibility: inherit\; word-break: inherit\; overflow-wrap: inherit\; z-index: auto\; background-image: none\; background-position: initial\; background-size: initial\; background-repeat: initial\; background-attachment: initial\; background-origin: initial\; background-clip: initial\; border-width: initial\; border-style: none\; border-color: initial\; border-collapse: separate\; border-image: none 100% 1 0 / 1 / 0 stretch\; border-radius: 0px\; height: auto\; width: auto\; box-shadow: none\;">4:30pm to 6:30pm</span><span style="font-family: Oxygen\, sans-serif\;">\, University of Mary will host the August Membership Mixer at the <strong>Gary Tharaldson School of Business on the University of Mary campus</strong>.</span><span style="font-family: Oxygen\, sans-serif\;">&nbsp\;<br />\n<br />\nCome join this fellow Chamber EDC member while we enjoy catering by University of Mary Dining Services along with a limited time only open bar! This event is a great way to get out and about for some fun networking and the chance to win some great prizes such as the following: University of Mary Merch\, Sporting Package\, &amp\; 1-4 hour workforce development training for up to 20 employees!</span><br />\n<br style="box-sizing: content-box\; inset: auto\; clear: none\; content: normal\; direction: inherit\; display: inline\; empty-cells: show\; float: none\; font-variant-numeric: inherit\; font-variant-east-asian: inherit\; font-stretch: inherit\; font-size: 16px\; font-family: Oxygen\, sans-serif\; line-height: inherit\; margin: 0px\; max-height: none\; max-width: none\; min-height: initial\; min-width: initial\; opacity: 1\; outline-offset: 0px\; overflow: visible\; padding: 0px\; position: static\; resize: none\; table-layout: auto\; text-overflow: clip\; vertical-align: baseline\; visibility: inherit\; word-break: inherit\; overflow-wrap: inherit\; z-index: auto\; background-image: none\; background-position: initial\; background-size: initial\; background-repeat: initial\; background-attachment: initial\; background-origin: initial\; background-clip: initial\; border-width: initial\; border-style: none\; border-color: initial\; border-collapse: separate\; border-image: none 100% 1 0 / 1 / 0 stretch\; border-radius: 0px\; height: auto\; width: auto\;" />\n<span style="font-family: Oxygen\, sans-serif\;">Mixers are FREE for Chamber EDC members to attend. RSVPs are appreciated and can be made above&nbsp\;or by contacting&nbsp\;</span><span style="box-sizing: content-box\; font-weight: bolder\; inset: auto\; clear: none\; content: normal\; direction: inherit\; empty-cells: show\; font-variant-numeric: inherit\; font-variant-east-asian: inherit\; font-stretch: inherit\; font-family: Oxygen\, sans-serif\; line-height: inherit\; margin: 0px\; max-height: none\; max-width: none\; min-height: initial\; min-width: initial\; opacity: 1\; outline-offset: 0px\; overflow: visible\; padding: 0px\; position: static\; resize: none\; table-layout: auto\; text-overflow: clip\; vertical-align: baseline\; visibility: inherit\; word-break: inherit\; overflow-wrap: inherit\; z-index: auto\; background-image: none\; background-position: initial\; background-size: initial\; background-repeat: initial\; background-attachment: initial\; background-origin: initial\; background-clip: initial\; border-width: initial\; border-style: none\; border-color: initial\; border-collapse: separate\; border-image: none 100% 1 0 / 1 / 0 stretch\; border-radius: 0px\; height: auto\; width: auto\; box-shadow: none\;"><a href="mailto:jsmyle@bmcedc.com" style="box-sizing: content-box\; background: none\; color: blue\; text-decoration-line: none\; inset: auto\; clear: none\; content: normal\; direction: inherit\; display: inline\; empty-cells: show\; float: none\; font: inherit\; letter-spacing: inherit\; margin: 0px\; max-height: none\; max-width: none\; min-height: initial\; min-width: initial\; opacity: 1\; outline-offset: 0px\; overflow: visible\; padding: 0px\; position: static\; resize: none\; table-layout: auto\; text-align: inherit\; text-indent: inherit\; text-overflow: clip\; text-transform: inherit\; vertical-align: baseline\; visibility: inherit\; white-space: inherit\; word-break: inherit\; word-spacing: inherit\; overflow-wrap: break-word\; z-index: auto\; border-width: initial\; border-style: none\; border-color: initial\; border-collapse: separate\; border-image: none 100% 1 0 / 1 / 0 stretch\; border-radius: 0px\; height: auto\; width: auto\; box-shadow: none\;">Josie Smyle</a></span><span style="font-family: Oxygen\, sans-serif\;">\, at the Chamber EDC office&nbsp\;</span><span style="box-sizing: content-box\; font-weight: bolder\; inset: auto\; clear: none\; content: normal\; direction: inherit\; empty-cells: show\; font-variant-numeric: inherit\; font-variant-east-asian: inherit\; font-stretch: inherit\; font-family: Oxygen\, sans-serif\; line-height: inherit\; margin: 0px\; max-height: none\; max-width: none\; min-height: initial\; min-width: initial\; opacity: 1\; outline-offset: 0px\; overflow: visible\; padding: 0px\; position: static\; resize: none\; table-layout: auto\; text-overflow: clip\; vertical-align: baseline\; visibility: inherit\; word-break: inherit\; overflow-wrap: inherit\; z-index: auto\; background-image: none\; background-position: initial\; background-size: initial\; background-repeat: initial\; background-attachment: initial\; background-origin: initial\; background-clip: initial\; border-width: initial\; border-style: none\; border-color: initial\; border-collapse: separate\; border-image: none 100% 1 0 / 1 / 0 stretch\; border-radius: 0px\; height: auto\; width: auto\; box-shadow: none\;">701-223-5660</span></span>
LOCATION:University of Mary Gary Tharaldson School of Business 7500 University Dr\, Bismarck
UID:e.1803.5166
SEQUENCE:3
DTSTAMP:20260421T130238Z
URL:https://business.bismarckmandan.com/events/details/membership-mixer-university-of-mary-5166
END:VEVENT

END:VCALENDAR
