BEGIN:VCALENDAR
VERSION:2.0
PRODID:-//ChamberMaster//Event Calendar 2.0//EN
METHOD:PUBLISH
X-PUBLISHED-TTL:P3D
REFRESH-INTERVAL:P3D
CALSCALE:GREGORIAN
BEGIN:VEVENT
DTSTART:20211118T223000Z
DTEND:20211119T003000Z
X-MICROSOFT-CDO-ALLDAYEVENT:FALSE
SUMMARY:Membership Mixer: Zorells Jewelry
DESCRIPTION:Save the Date for the November Membership Mixer!\n\n \n\nZorells Jewelry will be hosting the November Membership Mixer on Thursday\, November 18th at 221 S 9th St in Bismarck from 4:30pm - 6:30pm.\n\n \n\nJoin fellow Chamber EDC members for refreshments\, hors d'oeuvres\, and some business after hours. Mixers are FREE for Chamber EDC members to attend. Please consider attending and bringing colleagues from your workplace.\n\n\n\nRSVPs are appreciated and can be made by registering online or contact Josie Smyle at the Chamber EDC office\, 701-223-5660.
X-ALT-DESC;FMTTYPE=text/html:<span style="font-size:16px\;">Save the Date for the November Membership Mixer!<br />\n&nbsp\;<br />\nZorells Jewelry will be hosting the November Membership Mixer on <strong>Thursday\, November 18th </strong>at&nbsp\;<strong>221 S 9th St in Bismarck from 4:30pm - 6:30pm</strong>.<br />\n&nbsp\;<br />\nJoin fellow Chamber EDC members for refreshments\, hors d&#39\;oeuvres\, and some business after hours. Mixers are FREE for Chamber EDC members to attend. Please consider attending and bringing colleagues from your workplace.<br />\n<br />\nRSVPs are appreciated and can be made by registering online&nbsp\;or contact<strong>&nbsp\;<a href="mailto:jsmyle@bmcedc.com" style="color: blue\; font: inherit\; letter-spacing: inherit\; text-align: inherit\; text-indent: inherit\; text-transform: inherit\; white-space: inherit\; word-spacing: inherit\; background: none\; box-sizing: content-box\; text-decoration-line: none\; inset: auto\; clear: none\; content: normal\; direction: inherit\; display: inline\; empty-cells: show\; margin: 0px\; max-height: none\; max-width: none\; min-height: initial\; min-width: initial\; opacity: 1\; outline-offset: 0px\; overflow: visible\; padding: 0px\; position: static\; resize: none\; table-layout: auto\; text-overflow: clip\; vertical-align: baseline\; visibility: inherit\; word-break: inherit\; overflow-wrap: break-word\; z-index: auto\; border-width: initial\; border-style: none\; border-color: initial\; border-collapse: separate\; border-image: none 100% 1 0 / 1 / 0 stretch\; border-radius: 0px\; height: auto\; width: auto\; box-shadow: none\;">Josie Smyle</a></strong>&nbsp\;at the Chamber EDC office\, <strong>701-223-5660</strong>.&nbsp\;</span>
LOCATION:Zorells Jewelry 221 S 9th St\, Bismarck
UID:e.1803.5199
SEQUENCE:3
DTSTAMP:20260421T191951Z
URL:https://business.bismarckmandan.com/events/details/membership-mixer-zorells-jewelry-5199
END:VEVENT

END:VCALENDAR
