BEGIN:VCALENDAR
VERSION:2.0
PRODID:-//ChamberMaster//Event Calendar 2.0//EN
METHOD:PUBLISH
X-PUBLISHED-TTL:P3D
REFRESH-INTERVAL:P3D
CALSCALE:GREGORIAN
BEGIN:VEVENT
DTSTART:20230506T220000Z
DTEND:20230507T040000Z
X-MICROSOFT-CDO-ALLDAYEVENT:FALSE
SUMMARY:Missouri Slope Foundation Gala
DESCRIPTION:Missouri Slope is hosting its first annual gala on May 6th\, 2023! This event will include an elegant 4-course meal\, live auction\, live entertainment\, and dancing! The funds raised at the Missouri Slope Foundation Gala will benefit our residents' health and spiritual well-being. We take pride in our mission: Founded in Christian Faith\, we enrich lives with love and compassion. The Missouri Slope Foundation was created to ensure we can do just that and more. We strive to provide excellent health care to the greatest generation in our community while enriching their lives in the best way possible.
X-ALT-DESC;FMTTYPE=text/html:Missouri Slope is hosting its first annual gala on May 6th\, 2023! This event will include an elegant 4-course meal\, live auction\, live entertainment\, and dancing! The funds raised at the Missouri Slope Foundation Gala will benefit our residents&#39\; health and spiritual well-being. We take pride in our mission: Founded in Christian Faith\, we enrich lives with love and compassion. The Missouri Slope Foundation was created to ensure we can do just that and more. We strive to provide excellent health care to the greatest generation in our community while enriching their lives in the best way possible.
LOCATION:Municipal Country Club (Lady J's) 930 N. Griffin st. Bismarck\, ND
UID:e.1803.5773
SEQUENCE:3
DTSTAMP:20260425T112008Z
URL:https://business.bismarckmandan.com/events/details/missouri-slope-foundation-gala-5773
END:VEVENT

END:VCALENDAR
