BEGIN:VCALENDAR
VERSION:2.0
PRODID:-//ChamberMaster//Event Calendar 2.0//EN
METHOD:PUBLISH
X-PUBLISHED-TTL:P3D
REFRESH-INTERVAL:P3D
CALSCALE:GREGORIAN
BEGIN:VEVENT
DTSTART:20240512T200000Z
DTEND:20240512T213000Z
X-MICROSOFT-CDO-ALLDAYEVENT:FALSE
SUMMARY:My Favorite Things
DESCRIPTION:Dakota Pro Musica presents a special Mother's Day concert\, "My Favorite Things": A concert to honor mothers and the things they love. Dakota Pro Musica is North Dakota's only fully professional choral ensemble and is based in Bismarck\, ND.
X-ALT-DESC;FMTTYPE=text/html:Dakota Pro Musica presents a special Mother&#39\;s Day concert\, &quot\;My Favorite Things&quot\;: A concert to honor mothers and the things they love. Dakota Pro Musica is North Dakota&#39\;s only fully professional choral ensemble and is based in Bismarck\, ND.
LOCATION:Trinity Lutheran Church\, Bismarck
UID:e.1803.6291
SEQUENCE:3
DTSTAMP:20260421T143610Z
URL:https://business.bismarckmandan.com/events/details/my-favorite-things-6291
END:VEVENT

END:VCALENDAR
