BEGIN:VCALENDAR
VERSION:2.0
PRODID:-//ChamberMaster//Event Calendar 2.0//EN
METHOD:PUBLISH
X-PUBLISHED-TTL:P3D
REFRESH-INTERVAL:P3D
CALSCALE:GREGORIAN
BEGIN:VEVENT
DTSTART:20241013T200000Z
DTEND:20241013T213000Z
X-MICROSOFT-CDO-ALLDAYEVENT:FALSE
SUMMARY:Painted Stones – A Remembrance Service
DESCRIPTION:Join Hospice of the Red River Valley in painting stones to be used as we gather to honor and remember your loved ones. This event is free and open to the public. For further details and to register\, please visit: https://bit.ly/griefclassschedule
X-ALT-DESC;FMTTYPE=text/html:Join Hospice of the Red River Valley in painting stones to be used as we gather to honor and remember your loved ones. This event is free and open to the public. For further details and to register\, please visit: https://bit.ly/griefclassschedule
LOCATION:Hospice of the Red River Valley\; 1400 43rd Ave. NE. Suite 212\, Bismarck\, ND 58503
UID:e.1803.6432
SEQUENCE:3
DTSTAMP:20260420T021459Z
URL:https://business.bismarckmandan.com/events/details/painted-stones-a-remembrance-service-6432
END:VEVENT

END:VCALENDAR
