BEGIN:VCALENDAR
VERSION:2.0
PRODID:-//ChamberMaster//Event Calendar 2.0//EN
METHOD:PUBLISH
X-PUBLISHED-TTL:P3D
REFRESH-INTERVAL:P3D
CALSCALE:GREGORIAN
BEGIN:VEVENT
DTSTART:20230503T150000Z
DTEND:20230503T180000Z
X-MICROSOFT-CDO-ALLDAYEVENT:FALSE
SUMMARY:Promotional Apparel & Print Tradeshow
DESCRIPTION:Please stop by the trade show and check out new ideas in promotional products\, decorated clothing and more.
X-ALT-DESC;FMTTYPE=text/html:Please stop by the trade show and check out new ideas in promotional products\, decorated clothing and more.
LOCATION:Baymont Inn and Suites 2611 Old Red Trail Mandan\, ND 58554
UID:e.1803.5787
SEQUENCE:3
DTSTAMP:20260425T112228Z
URL:https://business.bismarckmandan.com/events/details/promotional-apparel-print-tradeshow-5787
END:VEVENT

END:VCALENDAR
