BEGIN:VCALENDAR
VERSION:2.0
PRODID:-//ChamberMaster//Event Calendar 2.0//EN
METHOD:PUBLISH
X-PUBLISHED-TTL:P3D
REFRESH-INTERVAL:P3D
CALSCALE:GREGORIAN
BEGIN:VEVENT
DTSTART:20210924T160000Z
DTEND:20210924T170000Z
X-MICROSOFT-CDO-ALLDAYEVENT:FALSE
SUMMARY:Quarterly Legislative Update
DESCRIPTION:Join us for our quarterly tax legislative update covering recent developments in proposed and enacted tax legislation. Staying up to date on areas affecting your situation is important and can allow you to better plan for changes that may be coming. Our National Tax Office Team will update you on the latest from Capitol Hill with a focus on how changes may affect you and your company.
X-ALT-DESC;FMTTYPE=text/html:Join us for our quarterly tax legislative update covering recent developments in proposed and enacted tax legislation. Staying up to date on areas affecting your situation is important and can allow you to better plan for changes that may be coming. Our National Tax Office Team will update you on the latest from Capitol Hill with a focus on how changes may affect you and your company.
LOCATION:Virtual
UID:e.1803.5226
SEQUENCE:3
DTSTAMP:20260421T143441Z
URL:https://business.bismarckmandan.com/events/details/quarterly-legislative-update-5226
END:VEVENT

END:VCALENDAR
