BEGIN:VCALENDAR
VERSION:2.0
PRODID:-//ChamberMaster//Event Calendar 2.0//EN
METHOD:PUBLISH
X-PUBLISHED-TTL:P3D
REFRESH-INTERVAL:P3D
CALSCALE:GREGORIAN
BEGIN:VEVENT
DTSTART:20230511T223000Z
DTEND:20230511T233000Z
X-MICROSOFT-CDO-ALLDAYEVENT:FALSE
SUMMARY:Remembrance Service
DESCRIPTION:Gather with Hospice of the Red River Valley as we remember and honor those who have died through a remembrance service. This is a peaceful time to reflect on the loss of someone special in your life. This is not a religious service\, rather a time to celebrate\, remember\, and find fellowship and strength alongside others.
X-ALT-DESC;FMTTYPE=text/html:Gather with Hospice of the Red River Valley as we remember and honor those who have died through a remembrance service. This is a peaceful time to reflect on the loss of someone special in your life. This is not a religious service\, rather a time to celebrate\, remember\, and find fellowship and strength alongside others.
LOCATION:Hospice of the Red River Valley\; 1400 43rd Ave NE\, Suite 212\, Bismarck\, N.D.
UID:e.1803.5768
SEQUENCE:3
DTSTAMP:20260425T111724Z
URL:https://business.bismarckmandan.com/events/details/remembrance-service-5768
END:VEVENT

END:VCALENDAR
