BEGIN:VCALENDAR
VERSION:2.0
PRODID:-//ChamberMaster//Event Calendar 2.0//EN
METHOD:PUBLISH
X-PUBLISHED-TTL:P3D
REFRESH-INTERVAL:P3D
CALSCALE:GREGORIAN
BEGIN:VEVENT
DTSTART:20221130T160000Z
DTEND:20221201T003000Z
X-MICROSOFT-CDO-ALLDAYEVENT:FALSE
SUMMARY:Sanford Day Career Fair
DESCRIPTION:The Sanford Day Career Fair is an Exploratory Career Fair for jobseekers of all ages. You will find opportunities in clinical and non-clinical roles\, and opportunities with career growth potential. We will have hiring leaders available to talk with jobseekers about specific job types\, and to showcase a day in the life with their department. We will have an application station available for guests to apply for positions onsite\, and great snacks throughout the event So whether you are job seeking or know someone who is please pass along this information and join us for Sanford Day in Bismarck!
X-ALT-DESC;FMTTYPE=text/html:The Sanford Day Career Fair is an Exploratory Career Fair for jobseekers of all ages. You will find opportunities in clinical and non-clinical roles\, and opportunities with career growth potential. We will have hiring leaders available to talk with jobseekers about specific job types\, and to showcase a day in the life with their department. We will have an application station available for guests to apply for positions onsite\, and great snacks throughout the event So whether you are job seeking or know someone who is please pass along this information and join us for Sanford Day in Bismarck!
LOCATION:Bismarck Hotel And Conference Center- 800 S 3rd St\, Bismarck\, ND 58504
UID:e.1803.5655
SEQUENCE:3
DTSTAMP:20260420T201457Z
URL:https://business.bismarckmandan.com/events/details/sanford-day-career-fair-5655
END:VEVENT

END:VCALENDAR
