BEGIN:VCALENDAR
VERSION:2.0
PRODID:-//ChamberMaster//Event Calendar 2.0//EN
METHOD:PUBLISH
X-PUBLISHED-TTL:P3D
REFRESH-INTERVAL:P3D
CALSCALE:GREGORIAN
BEGIN:VEVENT
DTSTART:20210926T190000Z
DTEND:20210926T200000Z
X-MICROSOFT-CDO-ALLDAYEVENT:FALSE
SUMMARY:Sensational Sundays: Cotton Wood Concert
DESCRIPTION:Join us for a free concert by Cotton Wood. The concert will be held in the outdoor Prairie Amphitheater. Seating is not provided\, and those attending are encouraged to bring a blanket or lawn chair. In the event of inclement weather\, the concert will be moved to the indoor Russell Reid Auditorium.
X-ALT-DESC;FMTTYPE=text/html:Join us for a free concert by Cotton Wood. The concert will be held in the outdoor Prairie Amphitheater. Seating is not provided\, and those attending are encouraged to bring a blanket or lawn chair. In the event of inclement weather\, the concert will be moved to the indoor Russell Reid Auditorium.
LOCATION:North Dakota Heritage Center & State Museum\, 612 E Boulevard Ave\, Bismarck\, ND 58505
UID:e.1803.5243
SEQUENCE:3
DTSTAMP:20260421T144202Z
URL:https://business.bismarckmandan.com/events/details/sensational-sundays-cotton-wood-concert-5243
END:VEVENT

END:VCALENDAR
