BEGIN:VCALENDAR
VERSION:2.0
PRODID:-//ChamberMaster//Event Calendar 2.0//EN
METHOD:PUBLISH
X-PUBLISHED-TTL:P3D
REFRESH-INTERVAL:P3D
CALSCALE:GREGORIAN
BEGIN:VEVENT
DTSTART:20210507T213000Z
DTEND:20210508T000000Z
X-MICROSOFT-CDO-ALLDAYEVENT:FALSE
SUMMARY:Spaghetti Supper and Auction for Veterans Honor Flight Fundraising
DESCRIPTION:Spaghetti Supper and Charity Fundraising.  Auction items to bid on.  Free Will Donations for the supper.
X-ALT-DESC;FMTTYPE=text/html:Spaghetti Supper and Charity Fundraising.&nbsp\; Auction items to bid on.&nbsp\; Free Will Donations for the supper.
LOCATION:Bismarck AMVETS Club
UID:e.1803.5119
SEQUENCE:3
DTSTAMP:20260421T113817Z
URL:https://business.bismarckmandan.com/events/details/spaghetti-supper-and-auction-for-veterans-honor-flight-fundraising-5119
END:VEVENT

END:VCALENDAR
