BEGIN:VCALENDAR
VERSION:2.0
PRODID:-//ChamberMaster//Event Calendar 2.0//EN
METHOD:PUBLISH
X-PUBLISHED-TTL:P3D
REFRESH-INTERVAL:P3D
CALSCALE:GREGORIAN
BEGIN:VEVENT
DTSTART:20240511T160000Z
DTEND:20240511T230000Z
X-MICROSOFT-CDO-ALLDAYEVENT:FALSE
SUMMARY:Stamp Out Hunger Food Drive
DESCRIPTION:Please join MSA United Way and USPS Letter Carriers on May 11th 2024 as we collect and distribute thousands of pounds of nonperishable food items to local agencies\, food pantries\, and the United Way Backpack Program. This is a great volunteer opportunity for your whole family. Volunteers are needed from 11am   6pm. Sign up for a shift at www.volunteerbisman.com
X-ALT-DESC;FMTTYPE=text/html:Please join MSA United Way and USPS Letter Carriers on May 11th 2024 as we collect and distribute thousands of pounds of nonperishable food items to local agencies\, food pantries\, and the United Way Backpack Program. This is a great volunteer opportunity for your whole family. Volunteers are needed from 11am &ndash\; 6pm. Sign up for a shift at www.volunteerbisman.com
LOCATION:403 Airport Road Bismarck
UID:e.1803.6282
SEQUENCE:3
DTSTAMP:20260421T130445Z
URL:https://business.bismarckmandan.com/events/details/stamp-out-hunger-food-drive-05-11-2024-6282
END:VEVENT

END:VCALENDAR
