BEGIN:VCALENDAR
VERSION:2.0
PRODID:-//ChamberMaster//Event Calendar 2.0//EN
METHOD:PUBLISH
X-PUBLISHED-TTL:P3D
REFRESH-INTERVAL:P3D
CALSCALE:GREGORIAN
BEGIN:VEVENT
DTSTART:20210508T160000Z
DTEND:20210508T210000Z
X-MICROSOFT-CDO-ALLDAYEVENT:FALSE
SUMMARY:State Archives Open on Saturday\, May 8\, 2021
DESCRIPTION:State Archives is open the second Saturday of each month. Hours for Saturdays are 11 a.m. to 4:00 p.m. Appointments are required. Please call 701.328.2091 or email archives@nd.gov to schedule your appointment. Visitors are asked to follow state and local mandates and the CDC's recommendations on social distancing and personal hygiene. 701-328-2723.
X-ALT-DESC;FMTTYPE=text/html:State Archives is open the second Saturday of each month. Hours for Saturdays are 11 a.m. to 4:00 p.m. Appointments are required. Please call 701.328.2091 or email archives@nd.gov to schedule your appointment. Visitors are asked to follow state and local mandates and the CDC&#39\;s recommendations on social distancing and personal hygiene. 701-328-2723.
LOCATION:North Dakota Heritage Center & State Museum\, Bismarck
UID:e.1803.5038
SEQUENCE:3
DTSTAMP:20260421T113514Z
URL:https://business.bismarckmandan.com/events/details/state-archives-open-on-saturday-may-8-2021-5038
END:VEVENT

END:VCALENDAR
