BEGIN:VCALENDAR
VERSION:2.0
PRODID:-//ChamberMaster//Event Calendar 2.0//EN
METHOD:PUBLISH
X-PUBLISHED-TTL:P3D
REFRESH-INTERVAL:P3D
CALSCALE:GREGORIAN
BEGIN:VEVENT
DTSTART:20210917T170000Z
DTEND:20210917T180000Z
X-MICROSOFT-CDO-ALLDAYEVENT:FALSE
SUMMARY:Tax Legislation Update: Part 1
DESCRIPTION:The House Ways and Means and Senate Finance Committees have been instructed to develop legislation that increases spending on families and renewable energy and offset the cost of those changes through tax increases. What increases will be considered and how much additional tax they will raise is scheduled to be determined during September\, with a stated goal of finalizing legislation by the end of the month. Eide Bailly's tax legislation team\, along with National Tax office specialists\, will explore the progress of this legislation in a series of webinars on September 17 and September 24 (registration is needed for both webinars).
X-ALT-DESC;FMTTYPE=text/html:The House Ways and Means and Senate Finance Committees have been instructed to develop legislation that increases spending on families and renewable energy and offset the cost of those changes through tax increases. What increases will be considered and how much additional tax they will raise is scheduled to be determined during September\, with a stated goal of finalizing legislation by the end of the month. Eide Bailly&rsquo\;s tax legislation team\, along with National Tax office specialists\, will explore the progress of this legislation in a series of webinars on September 17 and September 24 (registration is needed for both webinars).
LOCATION:Virtual
UID:e.1803.5234
SEQUENCE:3
DTSTAMP:20260421T143811Z
URL:https://business.bismarckmandan.com/events/details/tax-legislation-update-part-1-5234
END:VEVENT

END:VCALENDAR
