BEGIN:VCALENDAR
VERSION:2.0
PRODID:-//ChamberMaster//Event Calendar 2.0//EN
METHOD:PUBLISH
X-PUBLISHED-TTL:P3D
REFRESH-INTERVAL:P3D
CALSCALE:GREGORIAN
BEGIN:VEVENT
DTSTART:20210827T223000Z
DTEND:20210828T033000Z
X-MICROSOFT-CDO-ALLDAYEVENT:FALSE
SUMMARY:The Basket Ball Fundraiser
DESCRIPTION:Please join us for our 3rd annual Basket Ball fundraiser benefiting our Y for All community programs including Safety Around Water\, Childcare Scholarships\, Membership Financial Assistance and more! This year in the interest of safety and social responsibility our Basket Ball will be a fun and festive "Bougie Backyard BBQ!" This exciting outdoor event will feature a themed meal\, cash bar & craft breweries\, yard games\, photo booth\, door prizes\, auctions\, entertainment and a whole lot of celebrating community. This event is 21+. Individual tickets are $50 and table sponsorships are also available. To purchase tickets visit bismarckymca.org. For sponsorships contact jamie.nelsons@bismarckymca.org. Make your reservations now and get in on this great party for a great cause. It's a slam dunk!
X-ALT-DESC;FMTTYPE=text/html:Please join us for our 3rd annual Basket Ball fundraiser benefiting our Y for All community programs including Safety Around Water\, Childcare Scholarships\, Membership Financial Assistance and more! This year in the interest of safety and social responsibility our Basket Ball will be a fun and festive &quot\;Bougie Backyard BBQ!&quot\; This exciting outdoor event will feature a themed meal\, cash bar &amp\; craft breweries\, yard games\, photo booth\, door prizes\, auctions\, entertainment and a whole lot of celebrating community. This event is 21+. Individual tickets are $50 and table sponsorships are also available. To purchase tickets visit bismarckymca.org. For sponsorships contact jamie.nelsons@bismarckymca.org. Make your reservations now and get in on this great party for a great cause. It&#39\;s a slam dunk!
LOCATION:OUTDOORS - Under the Tent on the South Lawn at the Y!
UID:e.1803.5211
SEQUENCE:3
DTSTAMP:20260421T125951Z
URL:https://business.bismarckmandan.com/events/details/the-basket-ball-fundraiser-5211
END:VEVENT

END:VCALENDAR
