BEGIN:VCALENDAR
VERSION:2.0
PRODID:-//ChamberMaster//Event Calendar 2.0//EN
METHOD:PUBLISH
X-PUBLISHED-TTL:P3D
REFRESH-INTERVAL:P3D
CALSCALE:GREGORIAN
BEGIN:VEVENT
DTSTART:20211114T200000Z
DTEND:20211114T210000Z
X-MICROSOFT-CDO-ALLDAYEVENT:FALSE
SUMMARY:The Farmer's Lawyer: A Conversation with Sarah Vogel and Brenna Gerhardt
DESCRIPTION:Author Sarah Vogel\, a former North Dakota commissioner of agriculture\, will join Humanities North Dakota Executive Director Brenna Gerhardt for a conversation about Vogel's new book\, "The Farmer's Lawyer: The North Dakota Nine and the Fight to Save the Family Farm." The book documents the experiences of Vogel as a young lawyer\, undertaking a historic legal battle to stop the federal government from foreclosing on thousands of family farmers during the 1980s farm crisis. Vogel wrote the memoir working from her notes\, drafts\, and other documents now preserved in the North Dakota State Archives. Vogel will sign books following the presentation. Participants can bring their own books or purchase them at the event. This conversation and book signing event is part of the State Historical Society of North Dakota's Sensational Sundays series. Sensational Sundays are free cultural programs that include a variety of lectures\, concerts\, movies\, and tours.
X-ALT-DESC;FMTTYPE=text/html:Author Sarah Vogel\, a former North Dakota commissioner of agriculture\, will join Humanities North Dakota Executive Director Brenna Gerhardt for a conversation about Vogel&#39\;s new book\, &quot\;The Farmer&#39\;s Lawyer: The North Dakota Nine and the Fight to Save the Family Farm.&quot\; The book documents the experiences of Vogel as a young lawyer\, undertaking a historic legal battle to stop the federal government from foreclosing on thousands of family farmers during the 1980s farm crisis. Vogel wrote the memoir working from her notes\, drafts\, and other documents now preserved in the North Dakota State Archives. Vogel will sign books following the presentation. Participants can bring their own books or purchase them at the event. This conversation and book signing event is part of the State Historical Society of North Dakota&#39\;s Sensational Sundays series. Sensational Sundays are free cultural programs that include a variety of lectures\, concerts\, movies\, and tours.
LOCATION:North Dakota Heritage Center & State Museum 612 E. Boulevard Ave. Bismarck ND
UID:e.1803.5312
SEQUENCE:3
DTSTAMP:20260421T192447Z
URL:https://business.bismarckmandan.com/events/details/the-farmer-s-lawyer-a-conversation-with-sarah-vogel-and-brenna-gerhardt-5312
END:VEVENT

END:VCALENDAR
