BEGIN:VCALENDAR
VERSION:2.0
PRODID:-//ChamberMaster//Event Calendar 2.0//EN
METHOD:PUBLISH
X-PUBLISHED-TTL:P3D
REFRESH-INTERVAL:P3D
CALSCALE:GREGORIAN
BEGIN:VEVENT
DTSTART;VALUE=DATE:20210729
DTEND;VALUE=DATE:20210730
TRANSP:TRANSPARENT
X-MICROSOFT-CDO-ALLDAYEVENT:TRUE
SUMMARY:Thursdays at the Chamber EDC - July 2021
DESCRIPTION:Thursdays at the Chamber EDC are back!\n\n\n\nJoin the Chamber EDC staff as we show how appreciative we are for you\, OUR MEMBERS! On Thursday\, July 29th from 11:30am - 1:00pm on our beautiful patio\, come and enjoy some good food and a fun afternoon of networking. \n\n\n\nContact Josie Smyle or call 701-223-5660 to RSVP for this fun afternoon in the sun! \n\n\n\nTHANK YOU SPONSORS!\n\nPresenting Sponsor: Daniel Companies
X-ALT-DESC;FMTTYPE=text/html:Thursdays at the Chamber EDC are back!<br />\n<br />\nJoin the Chamber EDC staff as we show how appreciative we are for you\, OUR MEMBERS! On Thursday\, July 29th from 11:30am - 1:00pm on our beautiful patio\, come and enjoy some good food and a fun afternoon of networking.&nbsp\;<br />\n<br />\nContact Josie Smyle or call 701-223-5660 to RSVP for this fun afternoon in the sun!&nbsp\;<br />\n<br />\nTHANK YOU SPONSORS!<br />\n<strong>Presenting Sponsor:&nbsp\;</strong>Daniel Companies<br />\n&nbsp\;
LOCATION:Bismarck Mandan Chamber EDC 1640 Burnt Boat Drive\, Bismarck
UID:e.1803.5169
SEQUENCE:3
DTSTAMP:20260421T113645Z
URL:https://business.bismarckmandan.com/events/details/thursdays-at-the-chamber-edc-july-2021-5169
END:VEVENT

END:VCALENDAR
