BEGIN:VCALENDAR
VERSION:2.0
PRODID:-//ChamberMaster//Event Calendar 2.0//EN
METHOD:PUBLISH
X-PUBLISHED-TTL:P3D
REFRESH-INTERVAL:P3D
CALSCALE:GREGORIAN
BEGIN:VEVENT
DTSTART;VALUE=DATE:20230526
DTEND;VALUE=DATE:20230527
TRANSP:TRANSPARENT
X-MICROSOFT-CDO-ALLDAYEVENT:TRUE
SUMMARY:Tricks & Flexibility
DESCRIPTION:We are offering Tricks and Flexibility Classes on Friday\, May 26th. We have two levels for those interested\; Intermediate is for those that have little to no experience in acrobatics & Advanced is for those that have experience and can successfully complete a front and back walkover.
X-ALT-DESC;FMTTYPE=text/html:We are offering Tricks and Flexibility Classes on Friday\, May 26th. We have two levels for those interested\; Intermediate is for those that have little to no experience in acrobatics &amp\; Advanced is for those that have experience and can successfully complete a front and back walkover.
LOCATION:Studio 180 Dance Company - 228 W Front Street Plaza
UID:e.1803.5851
SEQUENCE:3
DTSTAMP:20260425T111659Z
URL:https://business.bismarckmandan.com/events/details/tricks-flexibility-5851
END:VEVENT

END:VCALENDAR
