BEGIN:VCALENDAR
VERSION:2.0
PRODID:-//ChamberMaster//Event Calendar 2.0//EN
METHOD:PUBLISH
X-PUBLISHED-TTL:P3D
REFRESH-INTERVAL:P3D
CALSCALE:GREGORIAN
BEGIN:VEVENT
DTSTART;VALUE=DATE:20210912
DTEND;VALUE=DATE:20210913
TRANSP:TRANSPARENT
X-MICROSOFT-CDO-ALLDAYEVENT:TRUE
SUMMARY:United Tribes International Powwow/Events Week
DESCRIPTION:The UTTC International Powwow is a cultural celebration attracting an estimated 10\,000 people to the area each year. In conjunction with the International Powwow\, UTTC also hosts a Golf Tournament\, Legends Softball Tournament\, Thunderbird Run\, and High School Basketball Tournament. For more information visit www.unitedtribespowwow.com
X-ALT-DESC;FMTTYPE=text/html:The UTTC International Powwow is a cultural celebration attracting an estimated 10\,000 people to the area each year. In conjunction with the International Powwow\, UTTC also hosts a Golf Tournament\, Legends Softball Tournament\, Thunderbird Run\, and High School Basketball Tournament. For more information visit www.unitedtribespowwow.com
LOCATION:3315 University Drive Bismarck\, ND 58504
UID:e.1803.5219
SEQUENCE:3
DTSTAMP:20260421T162116Z
URL:https://business.bismarckmandan.com/events/details/united-tribes-international-powwow-events-week-5219
END:VEVENT

END:VCALENDAR
