BEGIN:VCALENDAR
VERSION:2.0
PRODID:-//ChamberMaster//Event Calendar 2.0//EN
METHOD:PUBLISH
X-PUBLISHED-TTL:P3D
REFRESH-INTERVAL:P3D
CALSCALE:GREGORIAN
BEGIN:VEVENT
DTSTART;VALUE=DATE:20210811
DTEND;VALUE=DATE:20210812
TRANSP:TRANSPARENT
X-MICROSOFT-CDO-ALLDAYEVENT:TRUE
SUMMARY:United Way Day of Caring
DESCRIPTION:Day of Caring was established to promote the spirit and value of volunteerism\, increase the awareness of local human service agencies and demonstrate how people working together for the good of the community can accomplish great things. Volunteers work in collaboration with United Way partner agencies\, other social service organizations\, civic agencies\, private non-profit agencies\, and neighbors in need throughout the Bismarck-Mandan community. Participating organizations are matched with volunteers who choose to donate their time and talents to address our community's needs.
X-ALT-DESC;FMTTYPE=text/html:Day of Caring was established to promote the spirit and value of volunteerism\, increase the awareness of local human service agencies and demonstrate how people working together for the good of the community can accomplish great things. Volunteers work in collaboration with United Way partner agencies\, other social service organizations\, civic agencies\, private non-profit agencies\, and neighbors in need throughout the Bismarck-Mandan community. Participating organizations are matched with volunteers who choose to donate their time and talents to address our community&rsquo\;s needs.
LOCATION:Bismarck\, Mandan\, and Linton
UID:e.1803.5059
SEQUENCE:3
DTSTAMP:20260421T130929Z
URL:https://business.bismarckmandan.com/events/details/united-way-day-of-caring-08-11-2021-5059
END:VEVENT

END:VCALENDAR
