BEGIN:VCALENDAR
VERSION:2.0
PRODID:-//ChamberMaster//Event Calendar 2.0//EN
METHOD:PUBLISH
X-PUBLISHED-TTL:P3D
REFRESH-INTERVAL:P3D
CALSCALE:GREGORIAN
BEGIN:VEVENT
DTSTART:20210922T000000Z
DTEND:20210922T010000Z
X-MICROSOFT-CDO-ALLDAYEVENT:FALSE
SUMMARY:Visiting Scientists Series: Archaeological Perspectives on Warfare on the Great Plains
DESCRIPTION:This Visiting Scientists Series program features Andrew J. Clark\, co-author of Archaeological Perspectives on Warfare on the Great Plains. The presentation will be held in the Russell Reid Auditorium. Clark will help the audience learn about people living along and moving through the Missouri River Valley between A.D. 1000 and 1750. How did people interact with their space? Looking at group differences\, traditional memory\, the topography\, and what can be seen from places where village evidence is found archaeologically\, conclusions can be drawn about the interactions between people and the environment. Andrew J. Clark is Chief Archaeologist for the State Historical Society of North Dakota. He received his PhD in anthropology from the University at Albany in 2017 and specializes in conflict studies\, public archaeology\, and spatial analysis. This presentation is sponsored by the Visiting Scientists Series\, a partnership of: Bismarck State College\, North Dakota's Gateway to Science\, Bismarck Public Schools\, ND Society of Professional Engineers\, Institute of Electrical & Electronics Engineers\, State Historical Society of North Dakota\, University of Mary\, and United Tribes Technical College.
X-ALT-DESC;FMTTYPE=text/html:This Visiting Scientists Series program features Andrew J. Clark\, co-author of Archaeological Perspectives on Warfare on the Great Plains. The presentation will be held in the Russell Reid Auditorium. Clark will help the audience learn about people living along and moving through the Missouri River Valley between A.D. 1000 and 1750. How did people interact with their space? Looking at group differences\, traditional memory\, the topography\, and what can be seen from places where village evidence is found archaeologically\, conclusions can be drawn about the interactions between people and the environment. Andrew J. Clark is Chief Archaeologist for the State Historical Society of North Dakota. He received his PhD in anthropology from the University at Albany in 2017 and specializes in conflict studies\, public archaeology\, and spatial analysis. This presentation is sponsored by the Visiting Scientists Series\, a partnership of: Bismarck State College\, North Dakota&rsquo\;s Gateway to Science\, Bismarck Public Schools\, ND Society of Professional Engineers\, Institute of Electrical &amp\; Electronics Engineers\, State Historical Society of North Dakota\, University of Mary\, and United Tribes Technical College.
LOCATION:North Dakota Heritage Center & State Museum\, 612 E. Boulevard Avenue\, Bismarck ND 58505
UID:e.1803.5240
SEQUENCE:3
DTSTAMP:20260421T144208Z
URL:https://business.bismarckmandan.com/events/details/visiting-scientists-series-archaeological-perspectives-on-warfare-on-the-great-plains-5240
END:VEVENT

END:VCALENDAR
