BEGIN:VCALENDAR
VERSION:2.0
PRODID:-//ChamberMaster//Event Calendar 2.0//EN
METHOD:PUBLISH
X-PUBLISHED-TTL:P3D
REFRESH-INTERVAL:P3D
CALSCALE:GREGORIAN
BEGIN:VEVENT
DTSTART:20240604T190000Z
DTEND:20240604T210000Z
X-MICROSOFT-CDO-ALLDAYEVENT:FALSE
SUMMARY:Water Color Wonder at Former Governors Mansion State Historic Site
DESCRIPTION:The Former Governors' Mansion State Historic Site is offering free weekly activities throughout the summer season to promote learning and fun for adults and children. Children must be accompanied by an adult. Cookies and lemonade will be served\, unless otherwise noted. June 4\, Watercolor Wonder\, 2-4 p.m. Residents of the Former Governors' Mansion may have sat outside and used watercolors to paint what they saw around them. Tour the artwork in the Former Governors' Mansion\, and create your own watercolor piece of art. The Former Governors' Mansion\, 320 East Ave. B\, Bismarck\, is managed by the State Historical Society of North Dakota. Admission is free. The mansion is open Monday-Friday\, 10 a.m.-5 p.m.\, and Saturday-Sunday\, 12-4 p.m. For more information\, contact Site Supervisor Johnathan Campbell\, phone 701.328.9528 or email shsfgm@nd.gov. Additional upcoming educational programs sponsored by the State Historical Society of North Dakota can be found at history.nd.gov/events.
X-ALT-DESC;FMTTYPE=text/html:The Former Governors&#39\; Mansion State Historic Site is offering free weekly activities throughout the summer season to promote learning and fun for adults and children. Children must be accompanied by an adult. Cookies and lemonade will be served\, unless otherwise noted. June 4\, Watercolor Wonder\, 2-4 p.m. Residents of the Former Governors&rsquo\; Mansion may have sat outside and used watercolors to paint what they saw around them. Tour the artwork in the Former Governors&rsquo\; Mansion\, and create your own watercolor piece of art. The Former Governors&rsquo\; Mansion\, 320 East Ave. B\, Bismarck\, is managed by the State Historical Society of North Dakota. Admission is free. The mansion is open Monday-Friday\, 10 a.m.-5 p.m.\, and Saturday-Sunday\, 12-4 p.m. For more information\, contact Site Supervisor Johnathan Campbell\, phone 701.328.9528 or email shsfgm@nd.gov. Additional upcoming educational programs sponsored by the State Historical Society of North Dakota can be found at history.nd.gov/events.
LOCATION:Former Governors' Mansion State Historic Site\, 320 East Ave. B\, Bismarck\, ND 58501
UID:e.1803.6345
SEQUENCE:3
DTSTAMP:20260421T144251Z
URL:https://business.bismarckmandan.com/events/details/water-color-wonder-at-former-governors-mansion-state-historic-site-6345
END:VEVENT

END:VCALENDAR
