BEGIN:VCALENDAR
VERSION:2.0
PRODID:-//ChamberMaster//Event Calendar 2.0//EN
METHOD:PUBLISH
X-PUBLISHED-TTL:P3D
REFRESH-INTERVAL:P3D
CALSCALE:GREGORIAN
BEGIN:VEVENT
DTSTART:20210821T210000Z
DTEND:20210822T030000Z
X-MICROSOFT-CDO-ALLDAYEVENT:FALSE
SUMMARY:Woofstock: Bringing Peace to Pets
DESCRIPTION:
X-ALT-DESC;FMTTYPE=text/html:
LOCATION:Buckstop Junction 3805 E Bismarck Expy Bismarck\, ND 58501
UID:e.1803.5209
SEQUENCE:3
DTSTAMP:20260421T144056Z
URL:https://business.bismarckmandan.com/events/details/woofstock-bringing-peace-to-pets-08-21-2021-5209
END:VEVENT

END:VCALENDAR
