BEGIN:VCALENDAR
VERSION:2.0
PRODID:-//ChamberMaster//Event Calendar 2.0//EN
METHOD:PUBLISH
X-PUBLISHED-TTL:P3D
REFRESH-INTERVAL:P3D
CALSCALE:GREGORIAN
BEGIN:VEVENT
DTSTART:20210711T180000Z
DTEND:20210711T210000Z
X-MICROSOFT-CDO-ALLDAYEVENT:FALSE
SUMMARY:Zero.1 K Walk for Veterans
DESCRIPTION:Fun Walk for all ages!  Wheelchairs\, walkers\, canes and strollers encouraged.  Short walk to support our efforts to flight veterans to Washington DC to see the memorials and monuments that honor them.  No preregistration needed. Just show up!  $20 per person suggested and toddlers and strollers are free.
X-ALT-DESC;FMTTYPE=text/html:Fun Walk for all ages!&nbsp\; Wheelchairs\, walkers\, canes and strollers encouraged.&nbsp\; Short walk to support our efforts to flight veterans to Washington DC to see the memorials and monuments that honor them.&nbsp\; No preregistration needed. Just show up!&nbsp\; $20 per person suggested and toddlers and strollers are free.
LOCATION:Sertoma Park in Bismarck ND
UID:e.1803.5118
SEQUENCE:3
DTSTAMP:20260421T113524Z
URL:https://business.bismarckmandan.com/events/details/zero-1-k-walk-for-veterans-5118
END:VEVENT

END:VCALENDAR
